BEGIN:VCALENDAR
VERSION:2.0
PRODID:-//Furneux Pelham Parish Council//Meeting Calendar//EN
CALSCALE:GREGORIAN
METHOD:PUBLISH
BEGIN:VEVENT
UID:70566-20210506@furneuxpelham-pc.gov.uk
DTSTAMP:20260424T075132Z
DTSTART;VALUE=DATE:20210506
DTEND;VALUE=DATE:20210507
SUMMARY:Annual Meeting &#8211\\; 6th May 2021
DESCRIPTION:Annual Parish Meeting\nView details: https://furneuxpelham-pc.gov.uk/meetings/annual-meeting-6th-may-2021/
URL:https://furneuxpelham-pc.gov.uk/meetings/annual-meeting-6th-may-2021/
END:VEVENT
END:VCALENDAR
