BEGIN:VCALENDAR
VERSION:2.0
PRODID:-//Furneux Pelham Parish Council//Meeting Calendar//EN
CALSCALE:GREGORIAN
METHOD:PUBLISH
BEGIN:VEVENT
UID:70996-20250528@furneuxpelham-pc.gov.uk
DTSTAMP:20260420T081100Z
DTSTART;VALUE=DATE:20250528
DTEND;VALUE=DATE:20250529
SUMMARY:Annual Meeting
DESCRIPTION:Annual Parish Meeting\nView details: https://furneuxpelham-pc.gov.uk/meetings/annual-meeting/
URL:https://furneuxpelham-pc.gov.uk/meetings/annual-meeting/
END:VEVENT
END:VCALENDAR
